BEGIN:VCALENDAR
VERSION:2.0
PRODID:-//Berkshire County Historical Society - ECPv5.9.0//NONSGML v1.0//EN
CALSCALE:GREGORIAN
METHOD:PUBLISH
X-WR-CALNAME:Berkshire County Historical Society
X-ORIGINAL-URL:https://berkshirehistory.org
X-WR-CALDESC:Events for Berkshire County Historical Society
BEGIN:VTIMEZONE
TZID:America/New_York
BEGIN:DAYLIGHT
TZOFFSETFROM:-0500
TZOFFSETTO:-0400
TZNAME:EDT
DTSTART:20250309T070000
END:DAYLIGHT
BEGIN:STANDARD
TZOFFSETFROM:-0400
TZOFFSETTO:-0500
TZNAME:EST
DTSTART:20251102T060000
END:STANDARD
END:VTIMEZONE
BEGIN:VEVENT
DTSTART;TZID=America/New_York:20251008T173000
DTEND;TZID=America/New_York:20251008T190000
DTSTAMP:20260425T102124
CREATED:20250829T141137Z
LAST-MODIFIED:20251003T165433Z
UID:7655-1759944600-1759950000@berkshirehistory.org
SUMMARY:A Whale Ship was My Yale College and My Harvard: Herman Melville's Whaling Years
DESCRIPTION:In late December 1840\, adrift in his personal life\, 21-year-old Herman Melville arrived in New Bedford\, Massachusetts\, preparing to embark on a South Seas whaling voyage. His diverse experiences and adventures in the course of the ensuing nearly four years would profoundly shape him and his writings. During this time\, young Melville toiled as a foremast hand in the uniquely demanding and colorful social world of a whaleship on three different vessels and also served for more than a year as a seaman aboard a United States Navy frigate. His odyssey took him to far-flung South American ports\, the Galapagos Islands\, Tahiti\, and the Sandwich Islands. He lived among the indigenous people in the Marquesas Islands and also witnessed the early impacts of colonialism and Christian missionary work in the Pacific world. \nThis talk by Arrowhead docent and researcher Peter Hacunda will explore Melville’s life during the early 1840s\, consider how it shaped him and why a whaleship truly was Melville’s “Yale College and [his] Harvard.” \nUse the BOOK NOW button to purchase tickets: $15 BCHS Members\, $20 non-members. \nAbout Peter Hacunda  \nAfter a decades-long international business career\, twenty years ago Peter Hacunda began following his passion for public history becoming a docent with the Alcatraz Night Tour program. Upon returning East\, he led tours at Newport’s Gilded Age mansions and served as “mate” on a duck boat in Providence. For fifteen years he volunteered at New Bedford Whaling National Historical Park where he led walking tours\, including “In Ishmael’s Footsteps: Herman Melville’s New Bedford.” Peter is an alumnus of Mystic Seaport’s Munson Institute for American Maritime Studies and holds a Masters Degree in History from Providence College. In recent years\, as a panelist at the American History Association Conference\, he explored maritime perspectives on the California Gold Rush (2020) as well as how nineteenth-century British aristocrats helped preserve America’s historical and cultural legacies (2023). For the past two seasons as an Arrowhead docent\, Peter delights in connecting visitors with matters
URL:https://berkshirehistory.org/event/a-whale-ship-was-my-yale-college-and-my-harvard-herman-melvilles-whaling-years/
LOCATION:Arrowhead\, 780 Holmes Road\, Pittsfield\, MA\, 01201\, United States
END:VEVENT
END:VCALENDAR