BEGIN:VCALENDAR
VERSION:2.0
PRODID:-//Berkshire County Historical Society - ECPv5.9.0//NONSGML v1.0//EN
CALSCALE:GREGORIAN
METHOD:PUBLISH
X-WR-CALNAME:Berkshire County Historical Society
X-ORIGINAL-URL:https://berkshirehistory.org
X-WR-CALDESC:Events for Berkshire County Historical Society
BEGIN:VTIMEZONE
TZID:America/New_York
BEGIN:DAYLIGHT
TZOFFSETFROM:-0500
TZOFFSETTO:-0400
TZNAME:EDT
DTSTART:20260308T070000
END:DAYLIGHT
BEGIN:STANDARD
TZOFFSETFROM:-0400
TZOFFSETTO:-0500
TZNAME:EST
DTSTART:20261101T060000
END:STANDARD
END:VTIMEZONE
BEGIN:VEVENT
DTSTART;TZID=America/New_York:20260819T173000
DTEND;TZID=America/New_York:20260819T183000
DTSTAMP:20260420T203920
CREATED:20260414T132341Z
LAST-MODIFIED:20260414T132824Z
UID:8293-1787160600-1787164200@berkshirehistory.org
SUMMARY:Crane Paper\, A Legacy in Every Sheet
DESCRIPTION:$5\, Silver Certificate\, series 1899\, on Crane paper.\nThis talk Highlights the rich history of Crane papermaking in the Berkshires and beyond\, from its origins in rag-based handmade paper production to modern machine manufacturing. Dennis Croughwell\, a fourth generation Crane employee and Crane Museum of Papermaking Museum Educator\, will share stories of papermaking from Crane paper connections to the American Revolution to the hidden features in modern currency paper\, including Crane’s role in producing secure paper for United States currency. \nTo accompany the talk\, The Crane Museum of Papermaking will offer free papermaking demonstrations\, hands on paper making and a Crane paper sale from 12:00 – 3:00 pm Sunday\, August 16\, Monday August 17\, Thursday August 20 and Friday\, August 21. \nUse the BOOK NOW button to purchase tickets\,  $10 for BCHS members\, $15 for non-members. Become a member and start receiving discounts on event tickets. \nThis event is sponsored by Massachusetts Cultural Council and Housatonic Heritage.
URL:https://berkshirehistory.org/event/crane-paper-a-legacy-in-every-sheet/
LOCATION:Arrowhead\, 780 Holmes Road\, Pittsfield\, MA\, 01201\, United States
END:VEVENT
END:VCALENDAR