BEGIN:VCALENDAR
VERSION:2.0
PRODID:-//Berkshire County Historical Society - ECPv5.9.0//NONSGML v1.0//EN
CALSCALE:GREGORIAN
METHOD:PUBLISH
X-WR-CALNAME:Berkshire County Historical Society
X-ORIGINAL-URL:https://berkshirehistory.org
X-WR-CALDESC:Events for Berkshire County Historical Society
BEGIN:VTIMEZONE
TZID:America/New_York
BEGIN:DAYLIGHT
TZOFFSETFROM:-0500
TZOFFSETTO:-0400
TZNAME:EDT
DTSTART:20260308T070000
END:DAYLIGHT
BEGIN:STANDARD
TZOFFSETFROM:-0400
TZOFFSETTO:-0500
TZNAME:EST
DTSTART:20261101T060000
END:STANDARD
END:VTIMEZONE
BEGIN:VEVENT
DTSTART;TZID=America/New_York:20260613T110000
DTEND;TZID=America/New_York:20260613T123000
DTSTAMP:20260420T043307
CREATED:20260414T131243Z
LAST-MODIFIED:20260414T131243Z
UID:8284-1781348400-1781353800@berkshirehistory.org
SUMMARY:Downtown Pittsfield Walk – Neighbors and Strangers
DESCRIPTION:Led by Cynthia Farr Brown\, Neighbors and Strangers links the “big story” of America’s rapidly changing population during the 19th and early 20th centuries\, as European immigrants flocked to the United States to realize opportunities and escape oppression or catastrophe\, to a series of sites in downtown Pittsfield. Learn about how Irish\, German\, French\, and Italian immigrants came to Pittsfield\, settled themselves and their families\, and contributed to the Berkshire community. \nThis approximately ninety-minute walk begins at the Berkshire Athenaeum\, Wendell Avenue.  \nAbout Cynthia Farr Brown\nBrown is President of the Board of Directors of the Berkshire County Historical Society at Arrowhead. She also serves on the board of the Non-Profit Center of the Berkshires and on the executive committee of Berkshire Educational Resources K12 (BERK12). Brown has a doctorate in United States history and her scholarly publications have included co-editing the institutional history\, “Lesley University: Celebrating Excellence 1909-2009”; as well as other publications. She is currently Senior Associate Commissioner for Regulatory and Veterans Affairs at the Massachusetts Department of Higher Education. \nUse the BOOK NOW button to purchase tickets\, $15 for BCHS members\, $20 for non-members . Become a member and start receiving discounts on event tickets. \nThis event is sponsored by Massachusetts Cultural Council and Housatonic Heritage.
URL:https://berkshirehistory.org/event/downtown-pittsfield-walk-neighbors-and-strangers/
LOCATION:Berkshire Athenaeum\, 1 Wendell Avenue\, Pittsfield\, MA\, 01201\, United States
END:VEVENT
END:VCALENDAR