BEGIN:VCALENDAR
VERSION:2.0
PRODID:-//Berkshire County Historical Society - ECPv5.9.0//NONSGML v1.0//EN
CALSCALE:GREGORIAN
METHOD:PUBLISH
X-WR-CALNAME:Berkshire County Historical Society
X-ORIGINAL-URL:https://berkshirehistory.org
X-WR-CALDESC:Events for Berkshire County Historical Society
BEGIN:VTIMEZONE
TZID:America/New_York
BEGIN:DAYLIGHT
TZOFFSETFROM:-0500
TZOFFSETTO:-0400
TZNAME:EDT
DTSTART:20260308T070000
END:DAYLIGHT
BEGIN:STANDARD
TZOFFSETFROM:-0400
TZOFFSETTO:-0500
TZNAME:EST
DTSTART:20261101T060000
END:STANDARD
END:VTIMEZONE
BEGIN:VEVENT
DTSTART;TZID=America/New_York:20260710T190000
DTEND;TZID=America/New_York:20260710T203000
DTSTAMP:20260421T043652
CREATED:20260416T125754Z
LAST-MODIFIED:20260416T130106Z
UID:8387-1783710000-1783715400@berkshirehistory.org
SUMMARY:Staged Reading of Plays in Progress
DESCRIPTION:From July 6 – 9\, Playwright\, performer and great\, great\, great granddaughter of Herman Melville\, Elizabeth Doss has been working with a group of writers to generate new works for the stage. Join with the workshop participants\, their families\, and friends for a staged reading of these new plays in progress.  A reception will follow. \nFree event \nThis event is sponsored by Massachusetts Cultural Council and Housatonic Heritage.
URL:https://berkshirehistory.org/event/staged-reading-of-plays-in-progress/
LOCATION:Arrowhead\, 780 Holmes Road\, Pittsfield\, MA\, 01201\, United States
END:VEVENT
END:VCALENDAR