BEGIN:VCALENDAR
VERSION:2.0
PRODID:-//Berkshire County Historical Society - ECPv5.9.0//NONSGML v1.0//EN
CALSCALE:GREGORIAN
METHOD:PUBLISH
X-WR-CALNAME:Berkshire County Historical Society
X-ORIGINAL-URL:https://berkshirehistory.org
X-WR-CALDESC:Events for Berkshire County Historical Society
BEGIN:VTIMEZONE
TZID:America/New_York
BEGIN:DAYLIGHT
TZOFFSETFROM:-0500
TZOFFSETTO:-0400
TZNAME:EDT
DTSTART:20250309T070000
END:DAYLIGHT
BEGIN:STANDARD
TZOFFSETFROM:-0400
TZOFFSETTO:-0500
TZNAME:EST
DTSTART:20251102T060000
END:STANDARD
END:VTIMEZONE
BEGIN:VEVENT
DTSTART;TZID=America/New_York:20250919T190000
DTEND;TZID=America/New_York:20250919T210000
DTSTAMP:20260425T102141
CREATED:20250904T140554Z
LAST-MODIFIED:20250904T140554Z
UID:7679-1758308400-1758315600@berkshirehistory.org
SUMMARY:Strange Fancies:  Tales of Haunted Pittsfield
DESCRIPTION:Join us for an evening of Pittsfield ghost lore in this talk by Robert Oakes\, author of Ghosts of the Berkshires and ghost tour guide at The Mount and Ventfort Hall. In addition to Pittsfield ghost stories\, Oakes will discuss Herman Melville’s own “strange fancies\,” and the ghost writings of his friend and frequent Arrowhead visitor Nathaniel Hawthorne. The talk will be followed by a lantern-lit tour o Arrowhead. \nUse the BOOK NOW button to purchase tickets;  $20 for BCHS members\, $25 for non-members \nAbout Robert Oakes\nRobert Oakes is an author\, teacher\, storyteller\, and performing songwriter. He has written three books\, The Ghostly Tales of the Berkshires (2023)\, Ghosts of Northwestern New Jersey (2022)\, and Ghosts of the Berkshires (2020)\, all published by Arcadia Publishing. He has also released numerous recordings of original songs. Since 2010\, Robert has led immersive ghost storytelling experiences at historic locations in the Berkshires of western Massachusetts\, including Ventfort Hall and Edith Wharton’s The Mount. He has also given talks and readings and led a writing workshop at Arrowhead. He has appeared on Syfy’s Ghost Hunters\, Jeff Belanger’s New England Legends series on PBS\, and The Apple Seed show on BYUradio and has been featured in The Boston Globe\, The Berkshire Eagle\, and numerous other media outlets.
URL:https://berkshirehistory.org/event/strange-fancies-tales-of-haunted-pittsfield/
LOCATION:Arrowhead\, 780 Holmes Road\, Pittsfield\, MA\, 01201\, United States
END:VEVENT
END:VCALENDAR