BEGIN:VCALENDAR
VERSION:2.0
PRODID:-//Berkshire County Historical Society - ECPv5.9.0//NONSGML v1.0//EN
CALSCALE:GREGORIAN
METHOD:PUBLISH
X-WR-CALNAME:Berkshire County Historical Society
X-ORIGINAL-URL:https://berkshirehistory.org
X-WR-CALDESC:Events for Berkshire County Historical Society
BEGIN:VTIMEZONE
TZID:America/New_York
BEGIN:DAYLIGHT
TZOFFSETFROM:-0500
TZOFFSETTO:-0400
TZNAME:EDT
DTSTART:20250309T070000
END:DAYLIGHT
BEGIN:STANDARD
TZOFFSETFROM:-0400
TZOFFSETTO:-0500
TZNAME:EST
DTSTART:20251102T060000
END:STANDARD
END:VTIMEZONE
BEGIN:VEVENT
DTSTART;TZID=America/New_York:20251025T190000
DTEND;TZID=America/New_York:20251025T210000
DTSTAMP:20260425T114623
CREATED:20251008T185114Z
LAST-MODIFIED:20251024T142131Z
UID:7753-1761418800-1761426000@berkshirehistory.org
SUMMARY:Strange Fancies: The Ghosts of Broadhall - October 25
DESCRIPTION:SOLD OUT – USE THE BOOK NOW BUTTON TO PURCHASE TICKETS FOR NOVEMBER  7 \nThis summer\, BCHS presented Strange Fancies\, an exploration of Pittsfield ghost lore\, the supernatural influences on Herman Melville’s imagination\, and the ghostly experiences reported at the Moby-Dick author’s former home led by Robert Oakes. \nThe tale continues this fall  at the Country Club of Pittsfield. Once known as Broadhall\, this building was the home of Melville’s friend\, fellow writer Sarah Morewood\, whom Melville often visited while he lived at Arrowhead.  \nAnd some say he may still be calling. Indeed\, both Melville’s ghost and that of Mrs. Morewood are said to haunt the house\, as well as others yet unidentified. Many have visited the property throughout its long history\, including Alexander Hamilton\, President John Tyler\, famous literati\, and formerly enslaved people. And many have died there\, including Mrs. Morewood\, as well as seventeen victims of a 1910 ice house explosion\, described as the worst disaster in Pittsfield history. \nJoin Robert Oakes\, author of Ghosts of the Berkshires and ghost tour guide at Ventfort Hall and The Mount\, as he leads you through this historic Pittsfield property\, sharing accounts of sightings and other strange encounters reported by those who work there. Explore this unfolding mystery\, and discover for yourself whether Melville or Morewood—or others unknown—are haunting the house next door to Arrowhead. \nPlease note:  This tour involves climbing two flights of stairs. \nTickets will be available October 1 by using the BOOK NOW button; $25 for BCHS members\, $30 for non-members.
URL:https://berkshirehistory.org/event/strange-fancies-the-ghosts-of-broadhall-october-25/
LOCATION:Country Club of Pittsfield\, 639 South Street\, Pittsfield\, MA\, 01201\, United States
END:VEVENT
END:VCALENDAR