BEGIN:VCALENDAR
VERSION:2.0
PRODID:-//Berkshire County Historical Society - ECPv5.9.0//NONSGML v1.0//EN
CALSCALE:GREGORIAN
METHOD:PUBLISH
X-WR-CALNAME:Berkshire County Historical Society
X-ORIGINAL-URL:https://berkshirehistory.org
X-WR-CALDESC:Events for Berkshire County Historical Society
BEGIN:VTIMEZONE
TZID:America/New_York
BEGIN:DAYLIGHT
TZOFFSETFROM:-0500
TZOFFSETTO:-0400
TZNAME:EDT
DTSTART:20260308T070000
END:DAYLIGHT
BEGIN:STANDARD
TZOFFSETFROM:-0400
TZOFFSETTO:-0500
TZNAME:EST
DTSTART:20261101T060000
END:STANDARD
END:VTIMEZONE
BEGIN:VEVENT
DTSTART;TZID=America/New_York:20260617T173000
DTEND;TZID=America/New_York:20260617T190000
DTSTAMP:20260420T043401
CREATED:20260414T131526Z
LAST-MODIFIED:20260414T131526Z
UID:8329-1781717400-1781722800@berkshirehistory.org
SUMMARY:Wine Tasting - Thomas Jefferson\, Wine Lover and Collector
DESCRIPTION:Thomas Jefferson’s passion for wine began early in his life\, but it blossomed during his years in France (1784–1789) as United States Minister. He traveled through Bordeaux\, Burgundy\, Champagne\, the Rhône\, and northern Italy\, taking meticulous notes. His journals reveal a striking fact:  many of the wines he admired some 250 years ago are still produced today! \nJoin WSET-3 Certified Sommelier Philippe Jeanjean in retracing Jefferson’s journey and experiencing his discoveries through a thoughtfully curated selection of  eight wines.  Accompanied by an elegant selection of artisanal cheeses and delightful pâtés\, this experience promises a celebration of refined flavors and revolutionary spirit.   \nSeating for this event is limited. \nUse the BOOK NOW button to purchase tickets\,  $60 for BCHS members\, $65 for non-members. Become a member and start receiving discounts on event tickets. \nThis event is sponsored by The Feigenbaum Foundation\,  Massachusetts Cultural Council\, and Housatonic Heritage.
URL:https://berkshirehistory.org/event/wine-tasting-thomas-jefferson-wine-lover-and-collector/
LOCATION:Arrowhead\, 780 Holmes Road\, Pittsfield\, MA\, 01201\, United States
END:VEVENT
END:VCALENDAR