BEGIN:VCALENDAR
VERSION:2.0
PRODID:-//Berkshire County Historical Society - ECPv5.9.0//NONSGML v1.0//EN
CALSCALE:GREGORIAN
METHOD:PUBLISH
X-WR-CALNAME:Berkshire County Historical Society
X-ORIGINAL-URL:https://berkshirehistory.org
X-WR-CALDESC:Events for Berkshire County Historical Society
BEGIN:VTIMEZONE
TZID:America/New_York
BEGIN:DAYLIGHT
TZOFFSETFROM:-0500
TZOFFSETTO:-0400
TZNAME:EDT
DTSTART:20250309T070000
END:DAYLIGHT
BEGIN:STANDARD
TZOFFSETFROM:-0400
TZOFFSETTO:-0500
TZNAME:EST
DTSTART:20251102T060000
END:STANDARD
END:VTIMEZONE
BEGIN:VEVENT
DTSTART;TZID=America/New_York:20250215T100000
DTEND;TZID=America/New_York:20250215T110000
DTSTAMP:20260425T150224
CREATED:20250105T162851Z
LAST-MODIFIED:20250128T161039Z
UID:7189-1739613600-1739617200@berkshirehistory.org
SUMMARY:Winter Hike/Snowshoe
DESCRIPTION:Enjoy a guided hike led by Charlotte Hood of Berkshire Natural Resources Council. We’ll begin with an introduction to the site by the Berkshire County Historical Society. Learn about Melville’s sleigh rides\, and see what Mt. Greylock looks in the winter – does it really look like a white whale?  \nFREE Event\nTrail Details: Easy (gentle pace\, minimal elevation gain) \nWhat to Bring: Please remember to bring appropriate clothing (warm\, non-cotton layers) and water. Snowshoes will be available for lending if weather permits.  \nPre-register here.
URL:https://berkshirehistory.org/event/winter-hike-snowshoe/
LOCATION:Arrowhead\, 780 Holmes Road\, Pittsfield\, MA\, 01201\, United States
END:VEVENT
END:VCALENDAR