BEGIN:VCALENDAR
VERSION:2.0
PRODID:-//Berkshire County Historical Society - ECPv5.9.0//NONSGML v1.0//EN
CALSCALE:GREGORIAN
METHOD:PUBLISH
X-WR-CALNAME:Berkshire County Historical Society
X-ORIGINAL-URL:https://berkshirehistory.org
X-WR-CALDESC:Events for Berkshire County Historical Society
BEGIN:VTIMEZONE
TZID:America/New_York
BEGIN:DAYLIGHT
TZOFFSETFROM:-0500
TZOFFSETTO:-0400
TZNAME:EDT
DTSTART:20250309T070000
END:DAYLIGHT
BEGIN:STANDARD
TZOFFSETFROM:-0400
TZOFFSETTO:-0500
TZNAME:EST
DTSTART:20251102T060000
END:STANDARD
END:VTIMEZONE
BEGIN:VEVENT
DTSTART;TZID=America/New_York:20250320T190000
DTEND;TZID=America/New_York:20250320T200000
DTSTAMP:20260424T232647
CREATED:20250308T162218Z
LAST-MODIFIED:20250310T155305Z
UID:7303-1742497200-1742500800@berkshirehistory.org
SUMMARY:Thirsty in the Berkshires
DESCRIPTION: Free event taking place at Hot Plate Brewery in Downtown Pittsfield. Reservations are not required.\nPittsfield’s commercial brewing history was over 60 years in the making when\, in 1886\, Jacob Gimlich\, one of the principals of the successful Pittsfield brewery firm Gimlich and White\, declared people should “use beer for their refreshment and invigoration in a temperate\, manly\, proper way.” A part of Pittsfield and Berkshires culture since the English and Dutch came to the area in the early eighteenth century\, craft beer making is enjoying a resurgence squarely anchored by over 200 years of brewing and drinking one of the world’s oldest fermented beverages. \nThis  illustrated talk by historian and educator Cynthia Brown will illuminate this fascinating part of Pittsfield’s history and culture including the story of brewer Jane Prime (or Pryn)\, a Black resident of Lenox who is listed in the 1860 United States census as a “beer maker.” Commercial and solo brewers and breweries supplied Pittsfield taverns\, inns\, families\, and individuals with their beer from before 1800 and lasting into the first years of Prohibition. After the manufacture and sale of alcohol was legal again\, larger manufacturers cornered the market until the rise of the microbrewery movement that took hold in the 1990s. Exploring the early history of local breweries provides a connection to older brewing traditions and practices and provides rich stories and some intriguing mysteries still to be explored. \nThe event is part of Hot Plate’s “Small Batch Salon” series that features unique\, taproom-only offerings. Because some documents from the early nineteenth century reference a Dutch “kuyt\,” head brewer Sarah Real wrote a custom recipe inspired by traditional gruits\, which were made from fermented cereal grains and were actually the precursors to modern beer. It is a fermented beverage that was often brewed in domestic settings\, and may well have been brewed by Jane Prime.  \nA portion of the proceeds from the evening’s sales will be donated to the Berkshire County Historical Society. \nAbout Cynthia Brown\nBrown volunteers with the Berkshire County Historical Society at Arrowhead. She also serves on the executive committee of Berkshire Educational Resources K12 (BERK12). She has a doctorate in United States history and her scholarly publications have included co-editing the institutional history\, “Lesley University: Celebrating Excellence 1909-2009” as well as other book chapters and articles. She is currently Senior Associate Commissioner for Regulatory and Veterans Affairs at the Massachusetts Department of Higher Education. \nAbout Hot Plate Brewing\nHot Plate Brewing Co. is the only Latina-owned independent beverage company and brewery in Massachusetts. Co-Founders Sarah Real and Mike Dell’Aquila first discovered craft beer during their time at Penn State in the early 2000s. A love of the art and science of beer led them to take up homebrewing as well as traveling the world. After deciding to pursue a career in craft beer\, their Brooklyn condo had their gas turned off for several years due to a code violation. Rather than giving up on their dream\, Sarah started brewing on a hot plate\, writing and revising her own recipes\, and during the COVID-19 pandemic\, they started working on a business plan.  \nThat dream has now turned into the 7-barrel brewhouse with an attached taproom that they opened in Downtown Pittsfield in 2023. They have begun distributing many of their products\, including their signature recipe Capable of Anything\, a Chamomile Blonde Ale.
URL:https://berkshirehistory.org/event/thirsty-in-the-berkshires/
LOCATION:Hot Plate Brewing\, 1 School Stret\, Pittsfield\, MA\, United States
END:VEVENT
END:VCALENDAR