BEGIN:VCALENDAR
VERSION:2.0
PRODID:-//Berkshire County Historical Society - ECPv5.9.0//NONSGML v1.0//EN
CALSCALE:GREGORIAN
METHOD:PUBLISH
X-WR-CALNAME:Berkshire County Historical Society
X-ORIGINAL-URL:https://berkshirehistory.org
X-WR-CALDESC:Events for Berkshire County Historical Society
BEGIN:VTIMEZONE
TZID:America/New_York
BEGIN:DAYLIGHT
TZOFFSETFROM:-0500
TZOFFSETTO:-0400
TZNAME:EDT
DTSTART:20250309T070000
END:DAYLIGHT
BEGIN:STANDARD
TZOFFSETFROM:-0400
TZOFFSETTO:-0500
TZNAME:EST
DTSTART:20251102T060000
END:STANDARD
END:VTIMEZONE
BEGIN:VEVENT
DTSTART;TZID=America/New_York:20250913T110000
DTEND;TZID=America/New_York:20250913T123000
DTSTAMP:20260425T084606
CREATED:20250822T141638Z
LAST-MODIFIED:20250822T141638Z
UID:7618-1757761200-1757766600@berkshirehistory.org
SUMMARY:Ice Glen Walk
DESCRIPTION:On August 5\, 1850\, Herman Melville and Nathaniel Hawthorne met and hiked to the top of Monument Mountain beginning what would be a long and close friendship.  On that day\, they also hiked Ice Glen\, a small but stunning glacial ravine in Stockbridge. \nBerkshire County Historical Society volunteers will lead a leisurely stroll through Laurel Park\, across the Housatonic River\, and up into the hills of Ice Glen walking through giant boulder fields and enjoying cool ravine scenery! \nAdventurous hikers can venture into the boulders and crevices\, while others can return for a leisurely walk along the river.  \nFREE event. \nMeet at Stockbridge Town Hall; wear sturdy hiking shoes or boots\, bring water and bug repellent. In the event of rain\, the event will be held September 14.  \nThis event is supported by Housatonic Heritage. Learn more about them here. 
URL:https://berkshirehistory.org/event/ice-glen-walk/
LOCATION:Ice  Glen\, Stockbridge\, United States
END:VEVENT
END:VCALENDAR