BEGIN:VCALENDAR
VERSION:2.0
PRODID:-//Berkshire County Historical Society - ECPv5.9.0//NONSGML v1.0//EN
CALSCALE:GREGORIAN
METHOD:PUBLISH
X-WR-CALNAME:Berkshire County Historical Society
X-ORIGINAL-URL:https://berkshirehistory.org
X-WR-CALDESC:Events for Berkshire County Historical Society
BEGIN:VTIMEZONE
TZID:America/New_York
BEGIN:DAYLIGHT
TZOFFSETFROM:-0500
TZOFFSETTO:-0400
TZNAME:EDT
DTSTART:20250309T070000
END:DAYLIGHT
BEGIN:STANDARD
TZOFFSETFROM:-0400
TZOFFSETTO:-0500
TZNAME:EST
DTSTART:20251102T060000
END:STANDARD
END:VTIMEZONE
BEGIN:VEVENT
DTSTART;TZID=America/New_York:20251011T100000
DTEND;TZID=America/New_York:20251011T160000
DTSTAMP:20260425T101023
CREATED:20250822T144233Z
LAST-MODIFIED:20250923T174309Z
UID:7629-1760176800-1760198400@berkshirehistory.org
SUMMARY:Fall Fest at Arrowhead
DESCRIPTION:Berkshire Museum and the Berkshire County Historical Society are proud to present “Fall Fest”\, a FREE all-ages event at Herman Melville’s Arrowhead in Pittsfield\, Massachusetts! This event will celebrate the season with a variety of crafts\, games\, and hands-on activities for children and adults to enjoy\, as well as offering guests the opportunity to unwind and enjoy the fall colors on the scenic grounds at Arrowhead. \nParticipating Organizations: \nBaseball in the Berkshires\nBerkshire Athenaeum  \nBerkshire Museum\nBerkshire Be-Witches\nThe Bidwell House Museum \nBerkshire Cider Project will be on site to offer an all-ages cider pressing activity and samples of their local hard ciders for guests 21 years of age and over. \nStroll along the fields at Arrowhead to explore The Mastheads five sculptural-architectural studios\, each inspired by a writer who lived or worked in the Berkshires.  \nScheduled Activities\n10:00 am – 4:00 pm: Free hayrides provided by Four Seasons Stables\n12:00 – 2:00 pm: Face Painting by BTC Entertainment\n2:00 – 4:00 pm: BTC Entertainment presents Magic Show and Balloon Twisting by Kapt. Kraw \nLawn games provided by Berkshire Museum and the Berkshire County Historical Society. \nTours of Arrowhead\, Herman Melville’s historic home\, are available by ticket.  Purchase your ticket by using the BOOK NOW button.  \n 
URL:https://berkshirehistory.org/event/fall-fest-at-arrowhead/
LOCATION:Arrowhead\, 780 Holmes Road\, Pittsfield\, MA\, 01201\, United States
END:VEVENT
END:VCALENDAR