BEGIN:VCALENDAR
VERSION:2.0
PRODID:-//Berkshire County Historical Society - ECPv5.9.0//NONSGML v1.0//EN
CALSCALE:GREGORIAN
METHOD:PUBLISH
X-WR-CALNAME:Berkshire County Historical Society
X-ORIGINAL-URL:https://berkshirehistory.org
X-WR-CALDESC:Events for Berkshire County Historical Society
BEGIN:VTIMEZONE
TZID:America/New_York
BEGIN:DAYLIGHT
TZOFFSETFROM:-0500
TZOFFSETTO:-0400
TZNAME:EDT
DTSTART:20260308T070000
END:DAYLIGHT
BEGIN:STANDARD
TZOFFSETFROM:-0400
TZOFFSETTO:-0500
TZNAME:EST
DTSTART:20261101T060000
END:STANDARD
END:VTIMEZONE
BEGIN:VEVENT
DTSTART;TZID=America/New_York:20260723T070000
DTEND;TZID=America/New_York:20260723T100000
DTSTAMP:20260423T125909
CREATED:20260409T135050Z
LAST-MODIFIED:20260409T135050Z
UID:8254-1784790000-1784800800@berkshirehistory.org
SUMMARY:Bird Banding - July 23
DESCRIPTION:Bird banding at Arrowhead allows visitors an up-close opportunity to see birds and watch the process of bird banding.  Bird banding allows researchers the opportunity to study a wide array of wild birds in their natural habitat. Arrowhead’s woods\, fields and shrubland make it an ideal site to monitor a broad range of breeding bird species.  Join the Berkshire Bird Observatory researchers as they leverage the wonder of a bird in the hand to spark a curiosity about the natural world while showcasing ecological interactions that connect us all. \nFree\, drop in event\, weather permitting \nThis event is sponsored by Massachusetts Cultural Council and Housatonic Heritage.
URL:https://berkshirehistory.org/event/bird-banding-july-23/
LOCATION:Arrowhead\, 780 Holmes Road\, Pittsfield\, MA\, 01201\, United States
END:VEVENT
BEGIN:VEVENT
DTSTART;TZID=America/New_York:20260723T190000
DTEND;TZID=America/New_York:20260723T203000
DTSTAMP:20260423T125909
CREATED:20260420T183500Z
LAST-MODIFIED:20260420T184847Z
UID:8429-1784833200-1784838600@berkshirehistory.org
SUMMARY:The Mastheads Lantern Party
DESCRIPTION:From July 7-July 28\, five writers across disciplines\, from throughout the country\, have been invited to live in Pittsfield and work in The Mastheads studios at Arrowhead. BYO picnic to Melville’s lawn for a performance by the five residents\, followed by drinks\, oysters\, and lantern-lit studio walks. \n $10 suggested donation \nThis event is sponsored by Massachusetts Cultural Council and Housatonic Heritage.
URL:https://berkshirehistory.org/event/the-mastheads-lantern-party/
LOCATION:Arrowhead\, 780 Holmes Road\, Pittsfield\, MA\, 01201\, United States
END:VEVENT
END:VCALENDAR